BEGIN:VCALENDAR
VERSION:2.0
PRODID:-//Village of Hewlett Harbor - ECPv6.15.20//NONSGML v1.0//EN
CALSCALE:GREGORIAN
METHOD:PUBLISH
X-ORIGINAL-URL:https://hewlettharbor.gov
X-WR-CALDESC:Events for Village of Hewlett Harbor
REFRESH-INTERVAL;VALUE=DURATION:PT1H
X-Robots-Tag:noindex
X-PUBLISHED-TTL:PT1H
BEGIN:VTIMEZONE
TZID:America/New_York
BEGIN:DAYLIGHT
TZOFFSETFROM:-0500
TZOFFSETTO:-0400
TZNAME:EDT
DTSTART:20250309T070000
END:DAYLIGHT
BEGIN:STANDARD
TZOFFSETFROM:-0400
TZOFFSETTO:-0500
TZNAME:EST
DTSTART:20251102T060000
END:STANDARD
BEGIN:DAYLIGHT
TZOFFSETFROM:-0500
TZOFFSETTO:-0400
TZNAME:EDT
DTSTART:20260308T070000
END:DAYLIGHT
BEGIN:STANDARD
TZOFFSETFROM:-0400
TZOFFSETTO:-0500
TZNAME:EST
DTSTART:20261101T060000
END:STANDARD
BEGIN:DAYLIGHT
TZOFFSETFROM:-0500
TZOFFSETTO:-0400
TZNAME:EDT
DTSTART:20270314T070000
END:DAYLIGHT
BEGIN:STANDARD
TZOFFSETFROM:-0400
TZOFFSETTO:-0500
TZNAME:EST
DTSTART:20271107T060000
END:STANDARD
END:VTIMEZONE
BEGIN:VEVENT
DTSTART;TZID=America/New_York:20260107T190000
DTEND;TZID=America/New_York:20260107T220000
DTSTAMP:20260421T173320
CREATED:20251204T145234Z
LAST-MODIFIED:20251204T154817Z
UID:1671-1767812400-1767823200@hewlettharbor.gov
SUMMARY:BZA Meeting
DESCRIPTION:Hewlett Harbor Village Hall’s Zoom BZA Meeting \n\nTime: January 7\, 2026 07:00 PM Eastern Time (US and Canada)\n\n\nJoin Zoom Meeting\nMeeting ID: 284 468 1641\nPasscode: 272670
URL:https://hewlettharbor.gov/event/bza-meeting-1726/
LOCATION:Zoom Link
CATEGORIES:Main Calendar
END:VEVENT
END:VCALENDAR