BEGIN:VCALENDAR
VERSION:2.0
PRODID:-//Village of Hewlett Harbor - ECPv6.15.20//NONSGML v1.0//EN
CALSCALE:GREGORIAN
METHOD:PUBLISH
X-ORIGINAL-URL:https://hewlettharbor.gov
X-WR-CALDESC:Events for Village of Hewlett Harbor
REFRESH-INTERVAL;VALUE=DURATION:PT1H
X-Robots-Tag:noindex
X-PUBLISHED-TTL:PT1H
BEGIN:VTIMEZONE
TZID:America/New_York
BEGIN:DAYLIGHT
TZOFFSETFROM:-0500
TZOFFSETTO:-0400
TZNAME:EDT
DTSTART:20240310T070000
END:DAYLIGHT
BEGIN:STANDARD
TZOFFSETFROM:-0400
TZOFFSETTO:-0500
TZNAME:EST
DTSTART:20241103T060000
END:STANDARD
BEGIN:DAYLIGHT
TZOFFSETFROM:-0500
TZOFFSETTO:-0400
TZNAME:EDT
DTSTART:20250309T070000
END:DAYLIGHT
BEGIN:STANDARD
TZOFFSETFROM:-0400
TZOFFSETTO:-0500
TZNAME:EST
DTSTART:20251102T060000
END:STANDARD
BEGIN:DAYLIGHT
TZOFFSETFROM:-0500
TZOFFSETTO:-0400
TZNAME:EDT
DTSTART:20260308T070000
END:DAYLIGHT
BEGIN:STANDARD
TZOFFSETFROM:-0400
TZOFFSETTO:-0500
TZNAME:EST
DTSTART:20261101T060000
END:STANDARD
END:VTIMEZONE
BEGIN:VEVENT
DTSTART;TZID=America/New_York:20251209T190000
DTEND;TZID=America/New_York:20251209T220000
DTSTAMP:20260421T143632
CREATED:20251113T162715Z
LAST-MODIFIED:20251113T163305Z
UID:1643-1765306800-1765317600@hewlettharbor.gov
SUMMARY:Planning Board Meeting
DESCRIPTION:Hewlett Harbor Village Hall is inviting you to a scheduled PLANNING BOARD Zoom meeting. \n\nTime: Dec 09\, 2025 07:00 PM Eastern Time (US and Canada) \n\nJoin Zoom Meeting\nMeeting ID: 867 4656 7040\nPasscode: 483178
URL:https://hewlettharbor.gov/event/planning-board-meeting-1209/
CATEGORIES:Main Calendar
END:VEVENT
BEGIN:VEVENT
DTSTART;TZID=America/New_York:20251211T190000
DTEND;TZID=America/New_York:20251211T220000
DTSTAMP:20260421T143632
CREATED:20250916T125508Z
LAST-MODIFIED:20251030T154849Z
UID:1382-1765479600-1765490400@hewlettharbor.gov
SUMMARY:BOT Meeting
DESCRIPTION:Hewlett Harbor Village Hall’s Zoom BOT Meeting \nTime: December 11\, 2025 07:00 PM Eastern Time (US and Canada)\n\nJoin Zoom Meeting\nMeeting ID: 863 2393 9961\nPasscode: 061678
URL:https://hewlettharbor.gov/event/bot-meeting-1211/
CATEGORIES:Main Calendar
END:VEVENT
END:VCALENDAR