BEGIN:VCALENDAR
VERSION:2.0
PRODID:-//Village of Hewlett Harbor - ECPv6.15.20//NONSGML v1.0//EN
CALSCALE:GREGORIAN
METHOD:PUBLISH
X-WR-CALNAME:Village of Hewlett Harbor
X-ORIGINAL-URL:https://hewlettharbor.gov
X-WR-CALDESC:Events for Village of Hewlett Harbor
REFRESH-INTERVAL;VALUE=DURATION:PT1H
X-Robots-Tag:noindex
X-PUBLISHED-TTL:PT1H
BEGIN:VTIMEZONE
TZID:America/New_York
BEGIN:DAYLIGHT
TZOFFSETFROM:-0500
TZOFFSETTO:-0400
TZNAME:EDT
DTSTART:20250309T070000
END:DAYLIGHT
BEGIN:STANDARD
TZOFFSETFROM:-0400
TZOFFSETTO:-0500
TZNAME:EST
DTSTART:20251102T060000
END:STANDARD
BEGIN:DAYLIGHT
TZOFFSETFROM:-0500
TZOFFSETTO:-0400
TZNAME:EDT
DTSTART:20260308T070000
END:DAYLIGHT
BEGIN:STANDARD
TZOFFSETFROM:-0400
TZOFFSETTO:-0500
TZNAME:EST
DTSTART:20261101T060000
END:STANDARD
BEGIN:DAYLIGHT
TZOFFSETFROM:-0500
TZOFFSETTO:-0400
TZNAME:EDT
DTSTART:20270314T070000
END:DAYLIGHT
BEGIN:STANDARD
TZOFFSETFROM:-0400
TZOFFSETTO:-0500
TZNAME:EST
DTSTART:20271107T060000
END:STANDARD
END:VTIMEZONE
BEGIN:VEVENT
DTSTART;TZID=America/New_York:20260107T190000
DTEND;TZID=America/New_York:20260107T220000
DTSTAMP:20260421T160305
CREATED:20251204T145234Z
LAST-MODIFIED:20251204T154817Z
UID:1671-1767812400-1767823200@hewlettharbor.gov
SUMMARY:BZA Meeting
DESCRIPTION:Hewlett Harbor Village Hall’s Zoom BZA Meeting \n\nTime: January 7\, 2026 07:00 PM Eastern Time (US and Canada)\n\n\nJoin Zoom Meeting\nMeeting ID: 284 468 1641\nPasscode: 272670
URL:https://hewlettharbor.gov/event/bza-meeting-1726/
LOCATION:Zoom Link
CATEGORIES:Main Calendar
END:VEVENT
BEGIN:VEVENT
DTSTART;TZID=America/New_York:20260108T190000
DTEND;TZID=America/New_York:20260108T220000
DTSTAMP:20260421T160305
CREATED:20250917T131521Z
LAST-MODIFIED:20251030T155159Z
UID:1391-1767898800-1767909600@hewlettharbor.gov
SUMMARY:BOT Meeting
DESCRIPTION:Hewlett Harbor Village Hall’s Zoom BOT Meeting \nTime: January 8\, 2026 07:00 PM Eastern Time (US and Canada)\n\nJoin Zoom Meeting\nMeeting ID: 863 2393 9961\nPasscode: 061678
URL:https://hewlettharbor.gov/event/bot-meeting-0108/
CATEGORIES:Main Calendar
END:VEVENT
BEGIN:VEVENT
DTSTART;TZID=America/New_York:20260129T190000
DTEND;TZID=America/New_York:20260129T220000
DTSTAMP:20260421T160305
CREATED:20260105T161920Z
LAST-MODIFIED:20260105T163050Z
UID:1711-1769713200-1769724000@hewlettharbor.gov
SUMMARY:BOT Quarterly Meeting
DESCRIPTION:Hewlett Harbor Village Hall’s Zoom BOT Quarterly Meeting \nTime: January 29\, 2026 07:00 PM Eastern Time (US and Canada)\n\nJoin Zoom Meeting\nMeeting ID: 2844681641\nPasscode: 272670
URL:https://hewlettharbor.gov/event/bot-meeting-29/
CATEGORIES:Main Calendar
END:VEVENT
END:VCALENDAR